Package: affyio Version: 1.78.0 Command: /Library/Frameworks/R.framework/Resources/bin/R CMD INSTALL affyio StartedAt: 2025-10-13 15:08:39 -0400 (Mon, 13 Oct 2025) EndedAt: 2025-10-13 15:08:56 -0400 (Mon, 13 Oct 2025) EllapsedTime: 17.0 seconds RetCode: 0 Status: OK