Package: affyio Version: 1.78.0 Command: rm -rf affyio.buildbin-libdir && mkdir affyio.buildbin-libdir && /Users/biocbuild/BBS/utils/build-universal.sh affyio_1.78.0.tar.gz /Library/Frameworks/R.framework/Resources/bin/R affyio.buildbin-libdir StartedAt: 2025-10-15 17:19:56 -0400 (Wed, 15 Oct 2025) EndedAt: 2025-10-15 17:20:16 -0400 (Wed, 15 Oct 2025) EllapsedTime: 20.0 seconds RetCode: 0 Status: OK PackageFile: affyio_1.78.0.tgz PackageFileSize: 92.16 KiB