Package: affycoretools Version: 1.80.0 Command: /Library/Frameworks/R.framework/Resources/bin/R CMD check --install=check:affycoretools.install-out.txt --library=/Library/Frameworks/R.framework/Resources/library --no-vignettes --timings affycoretools_1.80.0.tar.gz StartedAt: 2025-10-13 23:50:50 -0400 (Mon, 13 Oct 2025) EndedAt: 2025-10-14 00:04:53 -0400 (Tue, 14 Oct 2025) EllapsedTime: 842.8 seconds RetCode: 0 Status: OK CheckDir: affycoretools.Rcheck Warnings: 0