Package: affycoretools Version: 1.80.0 Command: /Library/Frameworks/R.framework/Resources/bin/R CMD check --install=check:affycoretools.install-out.txt --library=/Library/Frameworks/R.framework/Resources/library --no-vignettes --timings affycoretools_1.80.0.tar.gz StartedAt: 2025-04-21 18:04:24 -0400 (Mon, 21 Apr 2025) EndedAt: 2025-04-21 18:07:11 -0400 (Mon, 21 Apr 2025) EllapsedTime: 166.2 seconds RetCode: 0 Status: OK CheckDir: affycoretools.Rcheck Warnings: 0