Package: affycoretools Version: 1.80.0 Command: rm -rf affycoretools.buildbin-libdir && mkdir affycoretools.buildbin-libdir && /Users/biocbuild/BBS/utils/build-universal.sh affycoretools_1.80.0.tar.gz /Library/Frameworks/R.framework/Resources/bin/R affycoretools.buildbin-libdir StartedAt: 2025-04-21 22:25:32 -0400 (Mon, 21 Apr 2025) EndedAt: 2025-04-21 22:26:00 -0400 (Mon, 21 Apr 2025) EllapsedTime: 27.5 seconds RetCode: 0 Status: OK PackageFile: affycoretools_1.80.0.tgz PackageFileSize: 575.3 KiB