Package: affyILM Version: 1.60.0 Command: rm -rf affyILM.buildbin-libdir && mkdir affyILM.buildbin-libdir && E:\biocbuild\bbs-3.21-bioc\R\bin\R.exe CMD INSTALL --build --library=affyILM.buildbin-libdir affyILM_1.60.0.tar.gz StartedAt: 2025-08-15 08:43:28 -0400 (Fri, 15 Aug 2025) EndedAt: 2025-08-15 08:43:58 -0400 (Fri, 15 Aug 2025) EllapsedTime: 29.7 seconds RetCode: 0 Status: OK PackageFile: affyILM_1.60.0.zip PackageFileSize: 400.5 KiB