Package: affyILM Version: 1.60.0 Command: /home/biocbuild/bbs-3.21-bioc/R/bin/R CMD INSTALL affyILM StartedAt: 2025-10-15 15:14:41 -0400 (Wed, 15 Oct 2025) EndedAt: 2025-10-15 15:14:53 -0400 (Wed, 15 Oct 2025) EllapsedTime: 12.0 seconds RetCode: 0 Status: OK