Package: affyILM Version: 1.60.0 Command: /Library/Frameworks/R.framework/Resources/bin/R CMD INSTALL affyILM StartedAt: 2025-10-13 15:27:54 -0400 (Mon, 13 Oct 2025) EndedAt: 2025-10-13 15:28:23 -0400 (Mon, 13 Oct 2025) EllapsedTime: 28.9 seconds RetCode: 0 Status: OK