Package: affyILM Version: 1.60.0 Command: rm -rf affyILM.buildbin-libdir && mkdir affyILM.buildbin-libdir && /Users/biocbuild/BBS/utils/build-universal.sh affyILM_1.60.0.tar.gz /Library/Frameworks/R.framework/Resources/bin/R affyILM.buildbin-libdir StartedAt: 2025-10-14 12:48:19 -0400 (Tue, 14 Oct 2025) EndedAt: 2025-10-14 12:48:50 -0400 (Tue, 14 Oct 2025) EllapsedTime: 30.9 seconds RetCode: 0 Status: OK PackageFile: affyILM_1.60.0.tgz PackageFileSize: 506.9 KiB