Package: affyILM Version: 1.60.0 Command: /Library/Frameworks/R.framework/Resources/bin/R CMD INSTALL affyILM StartedAt: 2025-10-09 15:41:56 -0400 (Thu, 09 Oct 2025) EndedAt: 2025-10-09 15:42:11 -0400 (Thu, 09 Oct 2025) EllapsedTime: 15.6 seconds RetCode: 0 Status: OK