Package: affyILM Version: 1.60.0 Command: /Library/Frameworks/R.framework/Resources/bin/R CMD build --keep-empty-dirs --no-resave-data affyILM StartedAt: 2025-10-09 18:58:38 -0400 (Thu, 09 Oct 2025) EndedAt: 2025-10-09 18:59:35 -0400 (Thu, 09 Oct 2025) EllapsedTime: 56.8 seconds RetCode: 0 Status: OK PackageFile: affyILM_1.60.0.tar.gz PackageFileSize: 233.5 KiB