Package: affyContam Version: 1.66.0 Command: /Library/Frameworks/R.framework/Resources/bin/R CMD build --keep-empty-dirs --no-resave-data affyContam StartedAt: 2025-09-29 18:56:01 -0400 (Mon, 29 Sep 2025) EndedAt: 2025-09-29 18:56:19 -0400 (Mon, 29 Sep 2025) EllapsedTime: 18.2 seconds RetCode: 0 Status: OK PackageFile: affyContam_1.66.0.tar.gz PackageFileSize: 503.7 KiB