Package: affy Version: 1.86.0 Command: chmod a+r affy -R && E:\biocbuild\bbs-3.21-bioc\R\bin\R.exe CMD build --keep-empty-dirs --no-resave-data affy StartedAt: 2025-08-14 17:16:14 -0400 (Thu, 14 Aug 2025) EndedAt: 2025-08-14 17:18:19 -0400 (Thu, 14 Aug 2025) EllapsedTime: 124.7 seconds RetCode: 0 Status: OK PackageFile: affy_1.86.0.tar.gz PackageFileSize: 1.177 MiB