Package: affy Version: 1.86.0 Command: /Library/Frameworks/R.framework/Resources/bin/R CMD INSTALL affy StartedAt: 2025-09-29 15:19:57 -0400 (Mon, 29 Sep 2025) EndedAt: 2025-09-29 15:20:23 -0400 (Mon, 29 Sep 2025) EllapsedTime: 25.4 seconds RetCode: 0 Status: OK