Package: affy Version: 1.86.0 Command: /home/biocbuild/R/R/bin/R CMD check --install=check:affy.install-out.txt --library=/home/biocbuild/R/R/site-library --no-vignettes --timings affy_1.86.0.tar.gz StartedAt: 2025-09-30 06:35:53 -0000 (Tue, 30 Sep 2025) EndedAt: 2025-09-30 06:38:28 -0000 (Tue, 30 Sep 2025) EllapsedTime: 155.3 seconds RetCode: 0 Status: WARNINGS CheckDir: affy.Rcheck Warnings: 1