Package: affy Version: 1.86.0 Command: /home/biocbuild/R/R/bin/R CMD build --keep-empty-dirs --no-resave-data affy StartedAt: 2025-09-29 22:29:17 -0000 (Mon, 29 Sep 2025) EndedAt: 2025-09-29 22:30:36 -0000 (Mon, 29 Sep 2025) EllapsedTime: 79.0 seconds RetCode: 0 Status: OK PackageFile: affy_1.86.0.tar.gz PackageFileSize: 1.649 MiB