Package: affy Version: 1.86.0 Command: /Library/Frameworks/R.framework/Resources/bin/R CMD INSTALL affy StartedAt: 2025-09-29 15:39:33 -0400 (Mon, 29 Sep 2025) EndedAt: 2025-09-29 15:39:45 -0400 (Mon, 29 Sep 2025) EllapsedTime: 11.9 seconds RetCode: 0 Status: OK