Package: affy Version: 1.86.0 Command: /Library/Frameworks/R.framework/Resources/bin/R CMD build --keep-empty-dirs --no-resave-data affy StartedAt: 2025-09-29 18:55:21 -0400 (Mon, 29 Sep 2025) EndedAt: 2025-09-29 18:56:31 -0400 (Mon, 29 Sep 2025) EllapsedTime: 70.2 seconds RetCode: 0 Status: OK PackageFile: affy_1.86.0.tar.gz PackageFileSize: 1.686 MiB