Package: affxparser Version: 1.80.0 Command: /Library/Frameworks/R.framework/Resources/bin/R CMD build --keep-empty-dirs --no-resave-data affxparser StartedAt: 2025-04-21 15:35:47 -0400 (Mon, 21 Apr 2025) EndedAt: 2025-04-21 15:35:49 -0400 (Mon, 21 Apr 2025) EllapsedTime: 2.0 seconds RetCode: 0 Status: OK PackageFile: affxparser_1.80.0.tar.gz PackageFileSize: 782.8 KiB