Package: adverSCarial Version: 1.6.0 Command: /Library/Frameworks/R.framework/Resources/bin/R CMD INSTALL adverSCarial StartedAt: 2025-10-13 15:29:00 -0400 (Mon, 13 Oct 2025) EndedAt: 2025-10-13 15:29:09 -0400 (Mon, 13 Oct 2025) EllapsedTime: 8.6 seconds RetCode: 0 Status: OK