Package: adverSCarial Version: 1.6.0 Command: /Library/Frameworks/R.framework/Resources/bin/R CMD check --install=check:adverSCarial.install-out.txt --library=/Library/Frameworks/R.framework/Resources/library --no-vignettes --timings adverSCarial_1.6.0.tar.gz StartedAt: 2025-10-13 23:49:44 -0400 (Mon, 13 Oct 2025) EndedAt: 2025-10-13 23:52:42 -0400 (Mon, 13 Oct 2025) EllapsedTime: 178.2 seconds RetCode: 0 Status: WARNINGS CheckDir: adverSCarial.Rcheck Warnings: 2