Package: adverSCarial Version: 1.6.0 Command: /home/biocbuild/R/R/bin/R CMD INSTALL adverSCarial StartedAt: 2025-10-13 20:28:33 -0000 (Mon, 13 Oct 2025) EndedAt: 2025-10-13 20:28:38 -0000 (Mon, 13 Oct 2025) EllapsedTime: 5.1 seconds RetCode: 0 Status: OK