Package: adverSCarial Version: 1.6.0 Command: /home/biocbuild/R/R/bin/R CMD build --keep-empty-dirs --no-resave-data adverSCarial StartedAt: 2025-10-13 22:29:10 -0000 (Mon, 13 Oct 2025) EndedAt: 2025-10-13 22:29:45 -0000 (Mon, 13 Oct 2025) EllapsedTime: 35.0 seconds RetCode: 0 Status: OK PackageFile: adverSCarial_1.6.0.tar.gz PackageFileSize: 169 KiB