Package: adductomicsR Version: 1.24.0 Command: /Library/Frameworks/R.framework/Resources/bin/R CMD build --keep-empty-dirs --no-resave-data adductomicsR StartedAt: 2025-10-13 16:58:39 -0400 (Mon, 13 Oct 2025) EndedAt: 2025-10-13 17:00:33 -0400 (Mon, 13 Oct 2025) EllapsedTime: 113.9 seconds RetCode: 0 Status: OK PackageFile: adductomicsR_1.24.0.tar.gz PackageFileSize: 752 KiB