Package: adductomicsR Version: 1.24.0 Command: rm -rf adductomicsR.buildbin-libdir && mkdir adductomicsR.buildbin-libdir && /Users/biocbuild/BBS/utils/build-universal.sh adductomicsR_1.24.0.tar.gz /Library/Frameworks/R.framework/Resources/bin/R adductomicsR.buildbin-libdir StartedAt: 2025-10-14 12:48:10 -0400 (Tue, 14 Oct 2025) EndedAt: 2025-10-14 12:49:07 -0400 (Tue, 14 Oct 2025) EllapsedTime: 57.6 seconds RetCode: 0 Status: OK PackageFile: adductomicsR_1.24.0.tgz PackageFileSize: 1.229 MiB