Package: adSplit Version: 1.78.0 Command: rm -rf adSplit.buildbin-libdir && mkdir adSplit.buildbin-libdir && E:\biocbuild\bbs-3.21-bioc\R\bin\R.exe CMD INSTALL --build --library=adSplit.buildbin-libdir adSplit_1.78.0.tar.gz StartedAt: 2025-08-15 08:43:01 -0400 (Fri, 15 Aug 2025) EndedAt: 2025-08-15 08:43:51 -0400 (Fri, 15 Aug 2025) EllapsedTime: 49.9 seconds RetCode: 0 Status: OK PackageFile: adSplit_1.78.0.zip PackageFileSize: 358.5 KiB