Package: adSplit Version: 1.78.0 Command: /Library/Frameworks/R.framework/Resources/bin/R CMD check --install=check:adSplit.install-out.txt --library=/Library/Frameworks/R.framework/Resources/library --no-vignettes --timings adSplit_1.78.0.tar.gz StartedAt: 2025-10-14 12:15:19 -0400 (Tue, 14 Oct 2025) EndedAt: 2025-10-14 12:19:47 -0400 (Tue, 14 Oct 2025) EllapsedTime: 268.2 seconds RetCode: 0 Status: OK CheckDir: adSplit.Rcheck Warnings: 0