Package: adSplit Version: 1.78.0 Command: rm -rf adSplit.buildbin-libdir && mkdir adSplit.buildbin-libdir && /Users/biocbuild/BBS/utils/build-universal.sh adSplit_1.78.0.tar.gz /Library/Frameworks/R.framework/Resources/bin/R adSplit.buildbin-libdir StartedAt: 2025-10-15 17:19:23 -0400 (Wed, 15 Oct 2025) EndedAt: 2025-10-15 17:19:45 -0400 (Wed, 15 Oct 2025) EllapsedTime: 22.5 seconds RetCode: 0 Status: OK PackageFile: adSplit_1.78.0.tgz PackageFileSize: 560.2 KiB