Package: acde Version: 1.38.0 Command: chmod a+r acde -R && E:\biocbuild\bbs-3.21-bioc\R\bin\R.exe CMD build --keep-empty-dirs --no-resave-data acde StartedAt: 2025-08-14 17:15:51 -0400 (Thu, 14 Aug 2025) EndedAt: 2025-08-14 17:16:30 -0400 (Thu, 14 Aug 2025) EllapsedTime: 39.5 seconds RetCode: 0 Status: OK PackageFile: acde_1.38.0.tar.gz PackageFileSize: 8.878 MiB