Package: acde Version: 1.38.0 Command: rm -rf acde.buildbin-libdir && mkdir acde.buildbin-libdir && E:\biocbuild\bbs-3.21-bioc\R\bin\R.exe CMD INSTALL --build --library=acde.buildbin-libdir acde_1.38.0.tar.gz StartedAt: 2025-08-15 08:43:01 -0400 (Fri, 15 Aug 2025) EndedAt: 2025-08-15 08:43:17 -0400 (Fri, 15 Aug 2025) EllapsedTime: 16.2 seconds RetCode: 0 Status: OK PackageFile: acde_1.38.0.zip PackageFileSize: 8.072 MiB