Package: acde Version: 1.38.0 Command: /home/biocbuild/bbs-3.21-bioc/R/bin/R CMD check --install=check:acde.install-out.txt --library=/home/biocbuild/bbs-3.21-bioc/R/site-library --timings acde_1.38.0.tar.gz StartedAt: 2025-10-15 20:40:13 -0400 (Wed, 15 Oct 2025) EndedAt: 2025-10-15 20:41:21 -0400 (Wed, 15 Oct 2025) EllapsedTime: 67.2 seconds RetCode: 0 Status: OK CheckDir: acde.Rcheck Warnings: 0