Package: acde Version: 1.38.0 Command: /home/biocbuild/bbs-3.21-bioc/R/bin/R CMD build --keep-empty-dirs --no-resave-data acde StartedAt: 2025-10-15 16:06:58 -0400 (Wed, 15 Oct 2025) EndedAt: 2025-10-15 16:07:11 -0400 (Wed, 15 Oct 2025) EllapsedTime: 13.0 seconds RetCode: 0 Status: OK PackageFile: acde_1.38.0.tar.gz PackageFileSize: 8.876 MiB