Package: acde Version: 1.38.0 Command: /Library/Frameworks/R.framework/Resources/bin/R CMD INSTALL acde StartedAt: 2025-10-13 15:13:55 -0400 (Mon, 13 Oct 2025) EndedAt: 2025-10-13 15:14:02 -0400 (Mon, 13 Oct 2025) EllapsedTime: 7.5 seconds RetCode: 0 Status: OK