Package: acde Version: 1.38.0 Command: rm -rf acde.buildbin-libdir && mkdir acde.buildbin-libdir && /Users/biocbuild/BBS/utils/build-universal.sh acde_1.38.0.tar.gz /Library/Frameworks/R.framework/Resources/bin/R acde.buildbin-libdir StartedAt: 2025-10-15 17:18:54 -0400 (Wed, 15 Oct 2025) EndedAt: 2025-10-15 17:19:00 -0400 (Wed, 15 Oct 2025) EllapsedTime: 5.6 seconds RetCode: 0 Status: OK PackageFile: acde_1.38.0.tgz PackageFileSize: 8.078 MiB