Package: aCGH Version: 1.86.0 Command: E:\biocbuild\bbs-3.21-bioc\R\bin\R.exe CMD INSTALL aCGH StartedAt: 2025-08-14 15:39:01 -0400 (Thu, 14 Aug 2025) EndedAt: 2025-08-14 15:39:32 -0400 (Thu, 14 Aug 2025) EllapsedTime: 30.3 seconds RetCode: 0 Status: OK