Package: aCGH Version: 1.86.0 Command: /home/biocbuild/bbs-3.21-bioc/R/bin/R CMD build --keep-empty-dirs --no-resave-data aCGH StartedAt: 2025-10-15 16:06:58 -0400 (Wed, 15 Oct 2025) EndedAt: 2025-10-15 16:07:25 -0400 (Wed, 15 Oct 2025) EllapsedTime: 27.0 seconds RetCode: 0 Status: OK PackageFile: aCGH_1.86.0.tar.gz PackageFileSize: 2.219 MiB