Package: a4Reporting Version: 1.56.0 Command: /Library/Frameworks/R.framework/Resources/bin/R CMD build --keep-empty-dirs --no-resave-data a4Reporting StartedAt: 2025-04-21 15:35:32 -0400 (Mon, 21 Apr 2025) EndedAt: 2025-04-21 15:35:35 -0400 (Mon, 21 Apr 2025) EllapsedTime: 3.1 seconds RetCode: 0 Status: OK PackageFile: a4Reporting_1.56.0.tar.gz PackageFileSize: 292.8 KiB