Package: a4Core Version: 1.56.0 Command: /Library/Frameworks/R.framework/Resources/bin/R CMD check --install=check:a4Core.install-out.txt --library=/Library/Frameworks/R.framework/Resources/library --no-vignettes --timings a4Core_1.56.0.tar.gz StartedAt: 2025-10-13 23:49:44 -0400 (Mon, 13 Oct 2025) EndedAt: 2025-10-13 23:51:25 -0400 (Mon, 13 Oct 2025) EllapsedTime: 100.7 seconds RetCode: 0 Status: OK CheckDir: a4Core.Rcheck Warnings: 0