Package: a4 Version: 1.56.0 Command: /Library/Frameworks/R.framework/Resources/bin/R CMD INSTALL a4 StartedAt: 2025-10-13 16:30:15 -0400 (Mon, 13 Oct 2025) EndedAt: 2025-10-13 16:30:55 -0400 (Mon, 13 Oct 2025) EllapsedTime: 40.1 seconds RetCode: 0 Status: OK