Package: Xeva Version: 1.24.0 Command: rm -rf Xeva.buildbin-libdir && mkdir Xeva.buildbin-libdir && /Users/biocbuild/BBS/utils/build-universal.sh Xeva_1.24.0.tar.gz /Library/Frameworks/R.framework/Resources/bin/R Xeva.buildbin-libdir StartedAt: 2025-10-14 15:04:08 -0400 (Tue, 14 Oct 2025) EndedAt: 2025-10-14 15:05:35 -0400 (Tue, 14 Oct 2025) EllapsedTime: 87.3 seconds RetCode: 0 Status: OK PackageFile: Xeva_1.24.0.tgz PackageFileSize: 1.443 MiB