Package: XVector Version: 0.48.0 Command: rm -rf XVector.buildbin-libdir && mkdir XVector.buildbin-libdir && /Users/biocbuild/BBS/utils/build-universal.sh XVector_0.48.0.tar.gz /Library/Frameworks/R.framework/Resources/bin/R XVector.buildbin-libdir StartedAt: 2025-10-14 15:04:31 -0400 (Tue, 14 Oct 2025) EndedAt: 2025-10-14 15:05:12 -0400 (Tue, 14 Oct 2025) EllapsedTime: 41.0 seconds RetCode: 0 Status: OK PackageFile: XVector_0.48.0.tgz PackageFileSize: 624.4 KiB