Package: XVector Version: 0.48.0 Command: /Library/Frameworks/R.framework/Resources/bin/R CMD check --install=check:XVector.install-out.txt --library=/Library/Frameworks/R.framework/Resources/library --no-vignettes --timings XVector_0.48.0.tar.gz StartedAt: 2025-04-22 00:23:23 -0400 (Tue, 22 Apr 2025) EndedAt: 2025-04-22 00:24:43 -0400 (Tue, 22 Apr 2025) EllapsedTime: 80.1 seconds RetCode: 0 Status: WARNINGS CheckDir: XVector.Rcheck Warnings: 2