Package: XVector Version: 0.48.0 Command: /home/biocbuild/R/R/bin/R CMD INSTALL XVector StartedAt: 2025-10-13 20:26:29 -0000 (Mon, 13 Oct 2025) EndedAt: 2025-10-13 20:26:51 -0000 (Mon, 13 Oct 2025) EllapsedTime: 22.5 seconds RetCode: 0 Status: OK