Package: XVector Version: 0.48.0 Command: /home/biocbuild/R/R/bin/R CMD build --keep-empty-dirs --no-resave-data XVector StartedAt: 2025-10-14 05:47:01 -0000 (Tue, 14 Oct 2025) EndedAt: 2025-10-14 05:47:02 -0000 (Tue, 14 Oct 2025) EllapsedTime: 1.0 seconds RetCode: 0 Status: OK PackageFile: XVector_0.48.0.tar.gz PackageFileSize: 66.32 KiB