Package: XVector Version: 0.48.0 Command: /Library/Frameworks/R.framework/Resources/bin/R CMD check --install=check:XVector.install-out.txt --library=/Library/Frameworks/R.framework/Resources/library --no-vignettes --timings XVector_0.48.0.tar.gz StartedAt: 2025-10-15 17:01:26 -0400 (Wed, 15 Oct 2025) EndedAt: 2025-10-15 17:02:45 -0400 (Wed, 15 Oct 2025) EllapsedTime: 78.8 seconds RetCode: 0 Status: WARNINGS CheckDir: XVector.Rcheck Warnings: 2