Package: XDE Version: 2.54.0 Command: /Library/Frameworks/R.framework/Resources/bin/R CMD check --install=check:XDE.install-out.txt --library=/Library/Frameworks/R.framework/Resources/library --no-vignettes --timings XDE_2.54.0.tar.gz StartedAt: 2025-10-14 12:18:40 -0400 (Tue, 14 Oct 2025) EndedAt: 2025-10-14 12:24:30 -0400 (Tue, 14 Oct 2025) EllapsedTime: 350.3 seconds RetCode: 0 Status: WARNINGS CheckDir: XDE.Rcheck Warnings: 1