Package: XDE Version: 2.54.0 Command: /Library/Frameworks/R.framework/Resources/bin/R CMD build --keep-empty-dirs --no-resave-data XDE StartedAt: 2025-10-13 23:35:50 -0400 (Mon, 13 Oct 2025) EndedAt: 2025-10-13 23:38:20 -0400 (Mon, 13 Oct 2025) EllapsedTime: 150.3 seconds RetCode: 0 Status: OK PackageFile: XDE_2.54.0.tar.gz PackageFileSize: 1.317 MiB