Package: XDE Version: 2.54.0 Command: /home/biocbuild/R/R/bin/R CMD INSTALL XDE StartedAt: 2025-10-13 20:43:51 -0000 (Mon, 13 Oct 2025) EndedAt: 2025-10-13 20:45:17 -0000 (Mon, 13 Oct 2025) EllapsedTime: 85.8 seconds RetCode: 0 Status: OK