Package: XDE Version: 2.54.0 Command: /home/biocbuild/R/R/bin/R CMD build --keep-empty-dirs --no-resave-data XDE StartedAt: 2025-10-14 05:45:27 -0000 (Tue, 14 Oct 2025) EndedAt: 2025-10-14 05:47:09 -0000 (Tue, 14 Oct 2025) EllapsedTime: 102.1 seconds RetCode: 0 Status: OK PackageFile: XDE_2.54.0.tar.gz PackageFileSize: 1.292 MiB