Package: XAItest Version: 1.0.1 Command: E:\biocbuild\bbs-3.21-bioc\R\bin\R.exe CMD check --no-multiarch --install=check:XAItest.install-out.txt --library=E:\biocbuild\bbs-3.21-bioc\R\library --no-vignettes --timings XAItest_1.0.1.tar.gz StartedAt: 2025-08-15 08:17:09 -0400 (Fri, 15 Aug 2025) EndedAt: 2025-08-15 08:19:59 -0400 (Fri, 15 Aug 2025) EllapsedTime: 170.2 seconds RetCode: 0 Status: OK CheckDir: XAItest.Rcheck Warnings: 0